BEGIN:VCALENDAR
VERSION:2.0
PRODID:-//Frugal Backpacker - ECPv4.6.22.1//NONSGML v1.0//EN
CALSCALE:GREGORIAN
METHOD:PUBLISH
X-WR-CALNAME:Frugal Backpacker
X-ORIGINAL-URL:https://frugalbackpacker.com
X-WR-CALDESC:Events for Frugal Backpacker
BEGIN:VEVENT
DTSTART;TZID=UTC+0:20170917T120000
DTEND;TZID=UTC+0:20170917T160000
DTSTAMP:20260426T013923
CREATED:20170731T183910Z
LAST-MODIFIED:20170810T182756Z
UID:889-1505649600-1505664000@frugalbackpacker.com
SUMMARY:Asheville Outdoor Show
DESCRIPTION:The Asheville Outdoor Show brings the finest outdoor brands and latest trends in recreation directly to our friends and neighbors who live in the outdoor playground of the mountains of North Carolina. We’ll showcase innovators known for quality\, variety\, and uniqueness. Enjoy music and outdoor games throughout the day — and pick up lots of discounts from your favorite brands for your outdoor lifestyle. (Check out the list here.) \nThis kick-ass event is free\, family-friendly\, and open to the public! \nRSVP on Facebook \n
URL:https://frugalbackpacker.com/event/asheville-outdoor-show/
LOCATION:Salvage Station\, 468 Riverside Dr\, Asheville\, NC\, 28801\, United States
CATEGORIES:Expo
ATTACH;FMTTYPE=image/jpeg:https://frugalbackpacker.com/wp-content/uploads/2017/07/AOS-Kelty-Cover.jpg
END:VEVENT
END:VCALENDAR