BEGIN:VCALENDAR
VERSION:2.0
PRODID:-//Frugal Backpacker - ECPv4.6.22.1//NONSGML v1.0//EN
CALSCALE:GREGORIAN
METHOD:PUBLISH
X-WR-CALNAME:Frugal Backpacker
X-ORIGINAL-URL:https://frugalbackpacker.com
X-WR-CALDESC:Events for Frugal Backpacker
BEGIN:VEVENT
DTSTART;TZID=UTC+0:20170924T120000
DTEND;TZID=UTC+0:20170924T143000
DTSTAMP:20260426T025903
CREATED:20170901T163106Z
LAST-MODIFIED:20170901T163106Z
UID:953-1506254400-1506263400@frugalbackpacker.com
SUMMARY:Asheville Urban Odyssey presented by Frugal Backpacker
DESCRIPTION:Teams of four will depart the starting point every 15 minutes starting at 12:00 PM and follow a series of clues to both obscure and well known Asheville locations. \nAt each location\, a team member must complete a specific task before receiving their next clue (each team member will need to complete two tasks). After a team completes its eighth task they will make their way back to the Mill Room for their final challenge. The completion of the final challenge will constitute the finish time. \nThe use of smart phones is not only allowed but highly encouraged. Teams can phone a friend or ask passersby for assistance. \nREGISTER ONLINE \n
URL:https://frugalbackpacker.com/event/asheville-urban-odyssey-presented-by-frugal-backpacker/
LOCATION:Hi Wire Taproom\, 197 Hilliard Ave\,\, Asheville\, NC\, 28801\, United States
CATEGORIES:Sponsored Events
ATTACH;FMTTYPE=image/png:https://frugalbackpacker.com/wp-content/uploads/2016/07/tiauo_photo_05.png
END:VEVENT
END:VCALENDAR