BEGIN:VCALENDAR
VERSION:2.0
PRODID:-//Frugal Backpacker - ECPv4.6.22.1//NONSGML v1.0//EN
CALSCALE:GREGORIAN
METHOD:PUBLISH
X-WR-CALNAME:Frugal Backpacker
X-ORIGINAL-URL:https://frugalbackpacker.com
X-WR-CALDESC:Events for Frugal Backpacker
BEGIN:VEVENT
DTSTART;TZID=UTC+0:20171026T180000
DTEND;TZID=UTC+0:20171026T190000
DTSTAMP:20260426T012247
CREATED:20170904T163941Z
LAST-MODIFIED:20170904T163941Z
UID:960-1509040800-1509044400@frugalbackpacker.com
SUMMARY:Basics of Backpacking
DESCRIPTION:Learn what to bring and (more importantly) what not to bring when setting out on a day\, weekend\, or thru hike. This clinic will include ideas on how to lighten your pack\, maintaining gear on the trail\, and making your own ultra-light gear to use in the backcountry. Feel free to bring your pack for a “shakedown” by our backpacking experts. \nRSVP on Facebook \nThis event is free and open to the public. Kids and well-behaved pets with owner on leash are welcome. \n  \n
URL:https://frugalbackpacker.com/event/basics-of-backpacking/
LOCATION:Frugal Backpacker Asheville\, 52 Westgate Parkway\, Asheville\, NC\, 28806\, United States
CATEGORIES:Spend Less Play More Basics
ATTACH;FMTTYPE=image/jpeg:https://frugalbackpacker.com/wp-content/uploads/2016/08/Backpacking.jpg
END:VEVENT
END:VCALENDAR