BEGIN:VCALENDAR
VERSION:2.0
PRODID:-//Frugal Backpacker - ECPv4.6.22.1//NONSGML v1.0//EN
CALSCALE:GREGORIAN
METHOD:PUBLISH
X-WR-CALNAME:Frugal Backpacker
X-ORIGINAL-URL:https://frugalbackpacker.com
X-WR-CALDESC:Events for Frugal Backpacker
BEGIN:VEVENT
DTSTART;TZID=UTC+0:20181013T100000
DTEND;TZID=UTC+0:20181014T190000
DTSTAMP:20260425T213920
CREATED:20181001T120154Z
LAST-MODIFIED:20181001T135106Z
UID:2520-1539424800-1539543600@frugalbackpacker.com
SUMMARY:FB Greenville Grand Opening Celebration
DESCRIPTION:Hey Frugies! We’re bringing Spend Less. Play More. to Greenville and we couldn’t be more thrilled. To celebrate the opening of our newest location\, we’re throwing a 2 day bash complete with swag\, raffles\, skills clinics\, contests\, and unbelievably frugal deals. \nRSVP on Facebook \nHere’s a preview of the awesomeness we’ve got planned: \nSaturday October 13th we’ll be open 10:00am – 7:00pm\, offering some very sweet deals and plenty of swag. \n– Free swag bags for the first 50 customers (check back to preview what’s inside)\n– Learn essential outdoor skills at our free Using a Map + Compass & Learn to Tie Knots skills clinics.\n– Show your outdoor prowess + win cool prizes by giving our tent pitching and pack stuffing contests a try.\n– Chill out + get your cornhole on in our ENO lounge.\n– Score a free mystery gear card (worth at least 10 bucks) all day.\n– Snag super savings with closeout deals up to 70% off MSRP. \nSunday October 1st we’ll be open 11:00am – 6:00pm with plenty of savings and special activities for the whole family. Plus\, 10% of sales will go to benefit Greenville Zoo Foundation. \n– Free water bottles for kids (while supplies last). Decorate them at our craft station. Kids can also enjoy coloring outdoor scenes. \n– S’more making + hot cider stations (because who doesn’t love a s’more?)\n– Learn about conservation + meet animal friends with Greenville Zoo Foundation.\n– Hang in our ENO Lounge area + set a record for fastest tent pitching or pack packing to win some awesome swag.\n– Snag super savings with closeout deals up to 50% off MSRP. \n
URL:https://frugalbackpacker.com/event/fb-greenville-grand-opening-celebration/
LOCATION:Frugal Backpacker Greenville\, 1418 Laurens Road\, Greenville\, SC\, 29608\, United States
CATEGORIES:Community Support,Sale,Spend Less Play More Basics
ATTACH;FMTTYPE=image/jpeg:https://frugalbackpacker.com/wp-content/uploads/2018/10/TK-EvolutionOfTrail_F18-4084.jpg
END:VEVENT
END:VCALENDAR