BEGIN:VCALENDAR
VERSION:2.0
PRODID:-//Frugal Backpacker - ECPv4.6.22.1//NONSGML v1.0//EN
CALSCALE:GREGORIAN
METHOD:PUBLISH
X-WR-CALNAME:Frugal Backpacker
X-ORIGINAL-URL:https://frugalbackpacker.com
X-WR-CALDESC:Events for Frugal Backpacker
BEGIN:VEVENT
DTSTART;TZID=UTC+0:20170427T180000
DTEND;TZID=UTC+0:20170427T190000
DTSTAMP:20260424T020034
CREATED:20170225T020753Z
LAST-MODIFIED:20170225T020753Z
UID:685-1493316000-1493319600@frugalbackpacker.com
SUMMARY:Getting Fit for the Outdoors
DESCRIPTION:Get fit for having more fun! Fitness expert Nancy Craig will lead some simple exercises that can be done at home\, on the trail\, or even sitting at your desk! She’ll also answer questions and talk about her hiking\, boating\, and outdoors experiences across the nation. Wear comfortable clothes and bring a yoga mat. \nRSVP on Facebook> \nThis awesome event is free and open to the public. Kids and well-behaved pets with owner on leash are welcome\, but this event is best enjoyed by those over the age of 13. \n
URL:https://frugalbackpacker.com/event/getting-fit-for-the-outdoors/
LOCATION:Frugal Backpacker Asheville\, 52 Westgate Parkway\, Asheville\, NC\, 28806\, United States
CATEGORIES:Spend Less Play More Basics
ATTACH;FMTTYPE=image/jpeg:https://frugalbackpacker.com/wp-content/uploads/2016/09/hike1.jpg
END:VEVENT
END:VCALENDAR