BEGIN:VCALENDAR
VERSION:2.0
PRODID:-//Frugal Backpacker - ECPv4.6.22.1//NONSGML v1.0//EN
CALSCALE:GREGORIAN
METHOD:PUBLISH
X-WR-CALNAME:Frugal Backpacker
X-ORIGINAL-URL:https://frugalbackpacker.com
X-WR-CALDESC:Events for Frugal Backpacker
BEGIN:VEVENT
DTSTART;TZID=UTC+0:20180524T180000
DTEND;TZID=UTC+0:20180524T190000
DTSTAMP:20260422T041217
CREATED:20180427T161130Z
LAST-MODIFIED:20180427T161130Z
UID:1523-1527184800-1527188400@frugalbackpacker.com
SUMMARY:Tying Knots
DESCRIPTION:Knot tying is an essential skill for the outdoors. Join us for a hand-on clinic in which you’ll learn basic useful knots for camping\, outdoor sports\, and everyday use. \nRSVP on Facebook > \nKids and pets on leash are welcome at this free workshop. \n
URL:https://frugalbackpacker.com/event/how-to-tie-knots/
LOCATION:Frugal Backpacker Asheville\, 52 Westgate Parkway\, Asheville\, NC\, 28806\, United States
CATEGORIES:Spend Less Play More Basics
ATTACH;FMTTYPE=image/jpeg:https://frugalbackpacker.com/wp-content/uploads/2017/08/Tying-Knots-Event-Photo.jpg
END:VEVENT
END:VCALENDAR