BEGIN:VCALENDAR
VERSION:2.0
PRODID:-//Frugal Backpacker - ECPv4.6.22.1//NONSGML v1.0//EN
CALSCALE:GREGORIAN
METHOD:PUBLISH
X-WR-CALNAME:Frugal Backpacker
X-ORIGINAL-URL:https://frugalbackpacker.com
X-WR-CALDESC:Events for Frugal Backpacker
BEGIN:VEVENT
DTSTART;TZID=UTC+0:20170408T091500
DTEND;TZID=UTC+0:20170408T170000
DTSTAMP:20260423T232741
CREATED:20170225T020303Z
LAST-MODIFIED:20170225T020303Z
UID:682-1491642900-1491670800@frugalbackpacker.com
SUMMARY:Map + Compass Hiking Club: Graveyard Fields
DESCRIPTION:Grab your map and compass as we explore four miles of tumbling waterfalls\, majestic vistas\, and fields of wildflowers and berries. We’ll meet at our store in Westgate Plaza and leave promptly at 9:30\, returning between 2:00-3:00. You’ll need to bring a compass and Western North Carolina Trail Guide South Pisgah/Bent Creek map (both available at Frugal Backpacker). \nRSVP on Facebook> \nThis awesome event is free and open to the public. Kids + well-behaved pets with owner on leash are welcome\, but be advised we rate this hike as moderate. \nThanks to Asheville Trails for the beautiful cover photo. Read more about Graveyard Fields on their site. \n
URL:https://frugalbackpacker.com/event/map-compass-hiking-club-graveyard-fields/
LOCATION:Frugal Backpacker Asheville\, 52 Westgate Parkway\, Asheville\, NC\, 28806\, United States
CATEGORIES:Hike
ATTACH;FMTTYPE=image/jpeg:https://frugalbackpacker.com/wp-content/uploads/2017/02/graveyard-fields-loop-hike.jpg
END:VEVENT
END:VCALENDAR