BEGIN:VCALENDAR
VERSION:2.0
PRODID:-//Frugal Backpacker - ECPv4.6.22.1//NONSGML v1.0//EN
CALSCALE:GREGORIAN
METHOD:PUBLISH
X-WR-CALNAME:Frugal Backpacker
X-ORIGINAL-URL:https://frugalbackpacker.com
X-WR-CALDESC:Events for Frugal Backpacker
BEGIN:VEVENT
DTSTART;TZID=UTC+0:20190523T180000
DTEND;TZID=UTC+0:20190523T190000
DTSTAMP:20260419T223713
CREATED:20190320T140438Z
LAST-MODIFIED:20190320T141234Z
UID:2892-1558634400-1558638000@frugalbackpacker.com
SUMMARY:Map + Compass Navigation
DESCRIPTION:\nIn today’s tech-focused world\, a map and compass isn’t always top of mind when it comes to navigation. But orienteering is an essential skill for any outdoors person. Learn to unlock the valuable data contained in maps\, and be ready to navigate in any circumstances with in this fun + free intro class.\n\n\nEnjoy fresh air and fantastic beer while upping your outdoor skills in this class at Birds Fly South Ale Project.\nRSVP on Facebook \n
URL:https://frugalbackpacker.com/event/map-compass-navigation-2/
LOCATION:Birds Fly South Ale Project\, 1320 Hampton Ave Ext\, Greenville\, NC\, 29601\, United States
CATEGORIES:Spend Less Play More Basics
ATTACH;FMTTYPE=image/jpeg:https://frugalbackpacker.com/wp-content/uploads/2018/10/Map-and-Compass.jpg
END:VEVENT
END:VCALENDAR