BEGIN:VCALENDAR
VERSION:2.0
PRODID:-//Frugal Backpacker - ECPv4.6.22.1//NONSGML v1.0//EN
CALSCALE:GREGORIAN
METHOD:PUBLISH
X-WR-CALNAME:Frugal Backpacker
X-ORIGINAL-URL:https://frugalbackpacker.com
X-WR-CALDESC:Events for Frugal Backpacker
BEGIN:VEVENT
DTSTART;TZID=UTC+0:20180614T180000
DTEND;TZID=UTC+0:20180614T190000
DTSTAMP:20260422T025825
CREATED:20180427T160702Z
LAST-MODIFIED:20180427T161208Z
UID:1520-1528999200-1529002800@frugalbackpacker.com
SUMMARY:Summer Backpacking Trips in WNC
DESCRIPTION:Western North Carolina is home to some of the best hiking and backpacking you’re likely to find. Living here has the built in advantage of a short ride to get where you want to go. We’ll explore some of the best backpacking trips you should take this summer whether you’re heading our overnight\, for a weekend\, or taking a longer break from the hustle and bustle — as well as how to prepare for your adventure. \nRSVP on Facebook > \nKids and pets on leash are welcome at this free workshop. \n
URL:https://frugalbackpacker.com/event/north-carolina-backpacking-trips/
LOCATION:Frugal Backpacker Asheville\, 52 Westgate Parkway\, Asheville\, NC\, 28806\, United States
CATEGORIES:Spend Less Play More Basics
ATTACH;FMTTYPE=image/jpeg:https://frugalbackpacker.com/wp-content/uploads/2018/04/Pack.jpg
END:VEVENT
END:VCALENDAR