BEGIN:VCALENDAR
VERSION:2.0
PRODID:-//Frugal Backpacker - ECPv4.6.22.1//NONSGML v1.0//EN
CALSCALE:GREGORIAN
METHOD:PUBLISH
X-WR-CALNAME:Frugal Backpacker
X-ORIGINAL-URL:https://frugalbackpacker.com
X-WR-CALDESC:Events for Frugal Backpacker
BEGIN:VEVENT
DTSTART;TZID=UTC+0:20170511T180000
DTEND;TZID=UTC+0:20170511T190000
DTSTAMP:20260424T044233
CREATED:20170309T153319Z
LAST-MODIFIED:20170428T123044Z
UID:706-1494525600-1494529200@frugalbackpacker.com
SUMMARY:Pack + Plan for a Day Hike
DESCRIPTION:When you head out for a backpacking weekend\, you take care of due diligence: check the weather\, pack the tent and gear\, and make sure you’ve got an emergency kit. A day hike is no different. Though you’ll just be heading out for a short time\, your day pack should be full of essentials and your hike requires some research. \nJoin hiking guru Belinda Lantz for this fun and informative workshop. \nRSVP on Facebook \nThis event is free and open to the public. Kids and well-behaved pets with owner on leash are welcome. \nThe outdoors can be intimidating when you first start to explore. Spend Less Play More Basics is a series of intro classes held at our store and lead by our expert team members. \n
URL:https://frugalbackpacker.com/event/pack-plan-for-a-day-hike/
LOCATION:Frugal Backpacker Asheville\, 52 Westgate Parkway\, Asheville\, NC\, 28806\, United States
CATEGORIES:Spend Less Play More Basics
ATTACH;FMTTYPE=image/jpeg:https://frugalbackpacker.com/wp-content/uploads/2017/03/Columbia-Backpack-Original.jpg
END:VEVENT
END:VCALENDAR