BEGIN:VCALENDAR
VERSION:2.0
PRODID:-//Frugal Backpacker - ECPv4.6.22.1//NONSGML v1.0//EN
CALSCALE:GREGORIAN
METHOD:PUBLISH
X-WR-CALNAME:Frugal Backpacker
X-ORIGINAL-URL:https://frugalbackpacker.com
X-WR-CALDESC:Events for Frugal Backpacker
BEGIN:VEVENT
DTSTART;TZID=UTC+0:20170810T191500
DTEND;TZID=UTC+0:20170810T203000
DTSTAMP:20260426T014816
CREATED:20170721T183858Z
LAST-MODIFIED:20170726T162831Z
UID:876-1502392500-1502397000@frugalbackpacker.com
SUMMARY:Patagonia Fall Preview
DESCRIPTION:Get it before it hits stores or the internet! \nPatagonia is one of your favorite brands and a new Fall 2017 sample set arrives on August 9. The set includes one of everything in the brand’s fall and winter line from shirts and jackets to pants and bags. \nNot only does Patagonia’s new line maintain the impressive style and rugged wear you’ve come to expect\, but it’s mostly sustainable with traceable down\, organic cotton\, and recycled nylon and polyester. Patagonia’s samples will be priced 25% OFF MSRP and are available in sizes medium for men and small for women. There will also be plenty of kid’s clothing in the collection. \nRSVP on Facebook \nThis event is free and open to the public. Well-behaved kids and pets with owner on leash are welcome. \n  \n
URL:https://frugalbackpacker.com/event/patagonia-fall-preview/
LOCATION:Frugal Backpacker Asheville\, 52 Westgate Parkway\, Asheville\, NC\, 28806\, United States
CATEGORIES:Sale
ATTACH;FMTTYPE=image/jpeg:https://frugalbackpacker.com/wp-content/uploads/2017/07/Patagonia-Feet.jpg
END:VEVENT
END:VCALENDAR