BEGIN:VCALENDAR
VERSION:2.0
PRODID:-//Frugal Backpacker - ECPv4.6.22.1//NONSGML v1.0//EN
CALSCALE:GREGORIAN
METHOD:PUBLISH
X-WR-CALNAME:Frugal Backpacker
X-ORIGINAL-URL:https://frugalbackpacker.com
X-WR-CALDESC:Events for Frugal Backpacker
BEGIN:VEVENT
DTSTART;TZID=UTC+0:20170509T100000
DTEND;TZID=UTC+0:20170509T190000
DTSTAMP:20260424T031947
CREATED:20170424T183924Z
LAST-MODIFIED:20170424T183924Z
UID:747-1494324000-1494356400@frugalbackpacker.com
SUMMARY:Restaurant\, Hotel\, + Brewery Appreciation Day
DESCRIPTION:EXTRA 20% OFF with your current work id or check stub all day! At Frugal Backpacker\, our goal is simple: Spend Less. Play More. We stock current season outdoor gear at 20%-75% OFF MSRP every day. If you work in the service industry\, stop in + load up on footwear\, accessories\, + apparel that will help you explore your mountains + your city.\n\nRSVP on Facebook\n
URL:https://frugalbackpacker.com/event/restaurant-hotel-brewery-appreciation-day/
LOCATION:Frugal Backpacker Asheville\, 52 Westgate Parkway\, Asheville\, NC\, 28806\, United States
CATEGORIES:Sale
ATTACH;FMTTYPE=image/jpeg:https://frugalbackpacker.com/wp-content/uploads/2017/04/Hydro-Flask-Dinner-Original.jpg
END:VEVENT
END:VCALENDAR