BEGIN:VCALENDAR
VERSION:2.0
PRODID:-//Frugal Backpacker - ECPv4.6.22.1//NONSGML v1.0//EN
CALSCALE:GREGORIAN
METHOD:PUBLISH
X-WR-CALNAME:Frugal Backpacker
X-ORIGINAL-URL:https://frugalbackpacker.com
X-WR-CALDESC:Events for Frugal Backpacker
BEGIN:VEVENT
DTSTART;TZID=UTC+0:20160928T180000
DTEND;TZID=UTC+0:20160928T190000
DTSTAMP:20260426T025852
CREATED:20160830T191144Z
LAST-MODIFIED:20160830T191144Z
UID:483-1475085600-1475089200@frugalbackpacker.com
SUMMARY:Spend Less Play More Basics: Hiking with a Map + Compass
DESCRIPTION:A map and compass isn’t always top of mind when we’re used to navigating with an app\, but it’s a skill every outdoor enthusiast should know. Sam Roach will teach the fundamentals in this class that’s great for all skill levels. \nEveryone who attends will receive 20% OFF their purchase this evening. This event is free and open to the public. Kids and well-behaved pets with owner on leash are welcome. \nThe outdoors can be intimidating when you first start to explore. Spend Less Play More Basics is a series of intro classes held at our store and lead by our expert team members. \nRSVP on Facebook \n
URL:https://frugalbackpacker.com/event/spend-less-play-more-basics-hiking-with-a-map-compass/
LOCATION:Frugal Backpacker Asheville\, 52 Westgate Parkway\, Asheville\, NC\, 28806\, United States
CATEGORIES:Spend Less Play More Basics
ATTACH;FMTTYPE=image/jpeg:https://frugalbackpacker.com/wp-content/uploads/2016/08/Map-and-Compass.jpg
END:VEVENT
END:VCALENDAR