BEGIN:VCALENDAR
VERSION:2.0
PRODID:-//Frugal Backpacker - ECPv4.6.22.1//NONSGML v1.0//EN
CALSCALE:GREGORIAN
METHOD:PUBLISH
X-WR-CALNAME:Frugal Backpacker
X-ORIGINAL-URL:https://frugalbackpacker.com
X-WR-CALDESC:Events for Frugal Backpacker
BEGIN:VEVENT
DTSTART;TZID=UTC+0:20170713T180000
DTEND;TZID=UTC+0:20170713T190000
DTSTAMP:20260426T002032
CREATED:20170614T172810Z
LAST-MODIFIED:20170614T172810Z
UID:837-1499968800-1499972400@frugalbackpacker.com
SUMMARY:Trail Safety + First Aid
DESCRIPTION:Learn how to hike smart and stay safe on the trail. Everyone who attends will be entered to win prizes! \nRSVP on Facebook \nThis event is free and open to the public. Well-behaved kids and pets with owner on leash are welcome. \n
URL:https://frugalbackpacker.com/event/trail-safety-first-aid/
LOCATION:Frugal Backpacker Asheville\, 52 Westgate Parkway\, Asheville\, NC\, 28806\, United States
CATEGORIES:Spend Less Play More Basics
ATTACH;FMTTYPE=image/jpeg:https://frugalbackpacker.com/wp-content/uploads/2017/06/Keen-Versago-Original.jpg
END:VEVENT
END:VCALENDAR