BEGIN:VCALENDAR
VERSION:2.0
PRODID:-//Frugal Backpacker - ECPv4.6.22.1//NONSGML v1.0//EN
CALSCALE:GREGORIAN
METHOD:PUBLISH
X-WR-CALNAME:Frugal Backpacker
X-ORIGINAL-URL:https://frugalbackpacker.com
X-WR-CALDESC:Events for Frugal Backpacker
BEGIN:VEVENT
DTSTART;TZID=UTC+0:20180412T180000
DTEND;TZID=UTC+0:20180412T190000
DTSTAMP:20260423T151238
CREATED:20180205T202933Z
LAST-MODIFIED:20180205T202933Z
UID:1364-1523556000-1523559600@frugalbackpacker.com
SUMMARY:Wisdom Healing Qigong
DESCRIPTION:“I love qigong classes where a 25 year-old star athlete practices right alongside a 75 year-old Qigong practitioner\, both realizing that it is much more about the mind’s capacity to flow healing energy than what your age or current physical or emotional issues might be.” \nThis quote sums up Debra Moore’s philosophy. Join her for a Wisdom Healing Qigong class. All are welcome\, from experienced practitioners to beginners. The practice is a powerful way to increase endurance\, reduce stress\, feel more joy\, heal faster from injuries\, and just plain have a much better quality of life. \nQi\, also spelled “chi\,” refers to the life energy that flows through all things in the universe. Qigong (pronounced “chee gung”) is the skillful practice of optimizing our flow of our internal life energy essential for physical\, emotional\, and mental wellbeing. \nDebra also offers weekly classes at her home studio and at the Embodiment Center in downtown Asheville. \nRSVP ON FACEBOOK \n
URL:https://frugalbackpacker.com/event/wisdom-healing-qigong-asheville/
LOCATION:Frugal Backpacker Asheville\, 52 Westgate Parkway\, Asheville\, NC\, 28806\, United States
CATEGORIES:Fitness
ATTACH;FMTTYPE=image/jpeg:https://frugalbackpacker.com/wp-content/uploads/2018/02/QiChung-Event-Cover.jpg
END:VEVENT
END:VCALENDAR