BEGIN:VCALENDAR
VERSION:2.0
PRODID:-//Frugal Backpacker - ECPv4.6.22.1//NONSGML v1.0//EN
CALSCALE:GREGORIAN
METHOD:PUBLISH
X-WR-CALNAME:Frugal Backpacker
X-ORIGINAL-URL:https://frugalbackpacker.com
X-WR-CALDESC:Events for Frugal Backpacker
BEGIN:VEVENT
DTSTART;TZID=UTC+0:20180428T100000
DTEND;TZID=UTC+0:20180428T190000
DTSTAMP:20260426T010856
CREATED:20180205T193716Z
LAST-MODIFIED:20180404T182041Z
UID:1359-1524909600-1524942000@frugalbackpacker.com
SUMMARY:Women Outdoors in the Mountains
DESCRIPTION:Inquisitive women love to push the boundaries explore wherever the adventure takes them. If you’re equally at home on the trail or on the town\, join other women to share adventures\, learn creative outdoor skills\, and tap into your awesomeness at this free inaugural event featuring great deals on outdoor apparel and gear. \nFrugal Backpacker gets women. And we get them geared up\, excited\, and ready for the outdoors with expert advice\, clothing\, and top outdoor products for less. \nFREE CLINICS + WORKSHOPS \n\n12:00 – DIY Healthy Camp Meals\n1:00 – Expert Advice: Women’s Hiking Boots\n2:00 – Magic of the Perfect Pack Fit\n3:00 – Creative Campsites\n4:00 – High Vibes\, Low Maintenance: Dressing for the Outdoors\n5:00 – Hiking Clothing for Badass Women\n\n5:30 – Incredible Asheville Adventures\n\nRSVP ON FACEBOOK >> \nKids and well-behaved pets on leash are welcome at this community event. \n
URL:https://frugalbackpacker.com/event/women-outdoors-in-the-mountains/
LOCATION:Frugal Backpacker Asheville\, 52 Westgate Parkway\, Asheville\, NC\, 28806\, United States
CATEGORIES:Expo
ATTACH;FMTTYPE=image/jpeg:https://frugalbackpacker.com/wp-content/uploads/2018/02/Womens-Event-Cover.jpg
END:VEVENT
END:VCALENDAR