BEGIN:VCALENDAR
VERSION:2.0
PRODID:-//Frugal Backpacker - ECPv4.6.22.1//NONSGML v1.0//EN
CALSCALE:GREGORIAN
METHOD:PUBLISH
X-WR-CALNAME:Frugal Backpacker
X-ORIGINAL-URL:https://frugalbackpacker.com
X-WR-CALDESC:Events for Frugal Backpacker
BEGIN:VEVENT
DTSTART;TZID=UTC+0:20190725T180000
DTEND;TZID=UTC+0:20190725T190000
DTSTAMP:20260420T002028
CREATED:20190717T175200Z
LAST-MODIFIED:20190717T175200Z
UID:3217-1564077600-1564081200@frugalbackpacker.com
SUMMARY:Women's Backpacking 101
DESCRIPTION:Join the adventure loving ladies at Frugal Backpacker in this class tailored to women in the outdoors. \nWe’ll cover selecting the right gear\, planning a trip\, outdoor safety basics\, feminine hygiene in the outdoors\, and more. Is there a specific topic you’d like to see covered? Let us know in the Facebook discussion. \nRSVP on Facebook \n
URL:https://frugalbackpacker.com/event/womens-backpacking-101/
LOCATION:Frugal Backpacker Asheville\, 52 Westgate Parkway\, Asheville\, NC\, 28806\, United States
CATEGORIES:Backpacking
END:VEVENT
END:VCALENDAR